BEGIN:VCALENDAR
VERSION:2.0
PRODID:-//Munich Milan Unternehmerköpfe GmbH - ECPv6.15.16//NONSGML v1.0//EN
CALSCALE:GREGORIAN
METHOD:PUBLISH
X-ORIGINAL-URL:https://www.munich-milan.de
X-WR-CALDESC:Veranstaltungen für Munich Milan Unternehmerköpfe GmbH
REFRESH-INTERVAL;VALUE=DURATION:PT1H
X-Robots-Tag:noindex
X-PUBLISHED-TTL:PT1H
BEGIN:VTIMEZONE
TZID:Europe/Berlin
BEGIN:DAYLIGHT
TZOFFSETFROM:+0100
TZOFFSETTO:+0200
TZNAME:CEST
DTSTART:20200329T010000
END:DAYLIGHT
BEGIN:STANDARD
TZOFFSETFROM:+0200
TZOFFSETTO:+0100
TZNAME:CET
DTSTART:20201025T010000
END:STANDARD
BEGIN:DAYLIGHT
TZOFFSETFROM:+0100
TZOFFSETTO:+0200
TZNAME:CEST
DTSTART:20210328T010000
END:DAYLIGHT
BEGIN:STANDARD
TZOFFSETFROM:+0200
TZOFFSETTO:+0100
TZNAME:CET
DTSTART:20211031T010000
END:STANDARD
BEGIN:DAYLIGHT
TZOFFSETFROM:+0100
TZOFFSETTO:+0200
TZNAME:CEST
DTSTART:20220327T010000
END:DAYLIGHT
BEGIN:STANDARD
TZOFFSETFROM:+0200
TZOFFSETTO:+0100
TZNAME:CET
DTSTART:20221030T010000
END:STANDARD
BEGIN:DAYLIGHT
TZOFFSETFROM:+0100
TZOFFSETTO:+0200
TZNAME:CEST
DTSTART:20230326T010000
END:DAYLIGHT
BEGIN:STANDARD
TZOFFSETFROM:+0200
TZOFFSETTO:+0100
TZNAME:CET
DTSTART:20231029T010000
END:STANDARD
BEGIN:DAYLIGHT
TZOFFSETFROM:+0100
TZOFFSETTO:+0200
TZNAME:CEST
DTSTART:20240331T010000
END:DAYLIGHT
BEGIN:STANDARD
TZOFFSETFROM:+0200
TZOFFSETTO:+0100
TZNAME:CET
DTSTART:20241027T010000
END:STANDARD
BEGIN:DAYLIGHT
TZOFFSETFROM:+0100
TZOFFSETTO:+0200
TZNAME:CEST
DTSTART:20250330T010000
END:DAYLIGHT
BEGIN:STANDARD
TZOFFSETFROM:+0200
TZOFFSETTO:+0100
TZNAME:CET
DTSTART:20251026T010000
END:STANDARD
BEGIN:DAYLIGHT
TZOFFSETFROM:+0100
TZOFFSETTO:+0200
TZNAME:CEST
DTSTART:20260329T010000
END:DAYLIGHT
BEGIN:STANDARD
TZOFFSETFROM:+0200
TZOFFSETTO:+0100
TZNAME:CET
DTSTART:20261025T010000
END:STANDARD
END:VTIMEZONE
BEGIN:VEVENT
DTSTART;TZID=Europe/Berlin:20251017T180000
DTEND;TZID=Europe/Berlin:20251017T220000
DTSTAMP:20260421T175731
CREATED:20250212T214437Z
LAST-MODIFIED:20251017T083601Z
UID:10000068-1760724000-1760738400@www.munich-milan.de
SUMMARY:Unternehmertreffen bei HEINRICH\, WOLLERING & PARTNER in Hamburg
DESCRIPTION:Knüpfen Sie wertvolle Kontakte mit Experten aus verschiedenen Branchen\, erweitern Sie Ihr geschäftliches Netzwerk und entdecken Sie neue Möglichkeiten für Kooperationen\, Investitionen und Sponsoring\, um Ihre Projekte und Ihr Unternehmen voranzubringen. \n\n\n\nGestalten Sie den Abend nach Ihren Vorstellungen – Sie bestimmen den Ablauf und das Finale. Bringen Sie Ihr unternehmerisches Know-how\, ein passendes Outfit und vor allem den unerschütterlichen Willen mit\, Großes zu erreichen. \n\n\n\nNutzen Sie diese exklusive Gelegenheit und sichern Sie sich jetzt Ihren Platz bei der nächsten Unternehmernetzwerkveranstaltung! Die Teilnehmerzahl ist begrenzt – also nicht zögern! Starten Sie mit Munich Milan in eine erfolgreiche Zukunft. \n\n\n\nAusverkauft
URL:https://www.munich-milan.de/event/unternehmertreffen-bei-heinrich-wollering-partner-in-hamburg-2/
LOCATION:HEINRICH\, WOLLERING & PARTNER Steuer- und Anwaltskanzlei\, Gänsemarkt 44\, Hamburg\, 20354\, Germany
ATTACH;FMTTYPE=image/jpeg:https://www.munich-milan.de/wp-content/uploads/2023/11/mmunternehmertreffen.jpeg
END:VEVENT
BEGIN:VEVENT
DTSTART;TZID=Europe/Berlin:20250905T180000
DTEND;TZID=Europe/Berlin:20250905T220000
DTSTAMP:20260421T175731
CREATED:20250212T201424Z
LAST-MODIFIED:20250905T112847Z
UID:10000067-1757095200-1757109600@www.munich-milan.de
SUMMARY:Unternehmertreffen bei AHB Rechtsanwälte Steuerberater Arends Hofert Bergemann PartGmbB in Hamburg
DESCRIPTION:Knüpfen Sie wertvolle Kontakte mit Fachleuten aus verschiedenen Branchen\, erweitern Sie Ihr Netzwerk und entdecken Sie neue Möglichkeiten für Kooperationen\, Investitionen und Sponsoring – alles mit dem Ziel\, Ihre Projekte und Ihr Unternehmen voranzubringen. \n\n\n\nGestalten Sie den Abend ganz nach Ihren Vorstellungen – Sie bestimmen\, wie er verläuft und welche Chancen Sie nutzen. Alles\, was Sie mitbringen sollten: Ihr unternehmerisches Know-how\, ein angemessenes Outfit und die Entschlossenheit\, Außergewöhnliches zu erreichen. \n\n\n\nNutzen Sie diese exklusive Gelegenheit und sichern Sie sich jetzt Ihren Platz beim nächsten Unternehmertreffen! Aber warten Sie nicht zu lange – die Teilnehmerzahl ist begrenzt! Starten Sie mit Munich Milan in eine vielversprechende Zukunft! \n\n\n\nAusverkauft
URL:https://www.munich-milan.de/event/unternehmertreffen-bei-ahb-rechtsanwaelte-steuerberater-arends-hofert-bergemann-partgmbb-in-hamburg-2/
LOCATION:AHB Rechtsanwälte Steuerberater Arends Hofert Bergemann PartGmbB\, Neuer Wall 59\, Hamburg\, 20354\, Germany
CATEGORIES:Deutschland,Hamburg
ATTACH;FMTTYPE=image/jpeg:https://www.munich-milan.de/wp-content/uploads/2023/11/mmunternehmertreffen.jpeg
END:VEVENT
BEGIN:VEVENT
DTSTART;TZID=Europe/Berlin:20241121T180000
DTEND;TZID=Europe/Berlin:20241121T220000
DTSTAMP:20260421T175731
CREATED:20240430T113351Z
LAST-MODIFIED:20241121T114445Z
UID:10000065-1732212000-1732226400@www.munich-milan.de
SUMMARY:Unternehmertreffen mit der Brittrich & Bittrich Steuerberatungsgesellschaft mbH in Lüneburg
DESCRIPTION:Vernetzen Sie sich mit Fachleuten aus verschiedensten Branchen\, knüpfen Sie wichtige Kontakte und entdecken Sie neue Kooperationsmöglichkeiten\, Investitionschancen und Sponsoren\, die bereit sind\, Ihre Ideen und Ihr Geschäft zu unterstützen. \n\n\n\nSie bestimmen den Verlauf Ihres Abends – gestalten Sie ihn nach Ihren Wünschen und Vorstellungen. Alles\, was Sie benötigen\, ist Ihre volle Geschäftsfähigkeit\, angemessene Kleidung und vor allem einen unermüdlichen Willen\, Großes zu erreichen. \n\n\n\nErgreifen Sie diese einmalige Gelegenheit und registrieren Sie sich jetzt für die nächste Unternehmerparty! Zögern Sie nicht – die Teilnehmerzahl ist begrenzt! Beginnen Sie jetzt Ihre aufregende Reise mit Munich Milan! \n\n\n\nAusverkauft \n\n\n\n\n\n\n\n\n\nVeranstaltungsort
URL:https://www.munich-milan.de/event/unternehmertreffen-mit-der-brittrich-bittrich-steuerberatungsgesellschaft-mbh-in-lueneburg/
LOCATION:Best Western Premier Castanea Resort Hotel\, Scharnebecker Weg 25\, Adendorf\, 21365\, Germany
CATEGORIES:Deutschland
ATTACH;FMTTYPE=image/jpeg:https://www.munich-milan.de/wp-content/uploads/2023/11/mmunternehmertreffen.jpeg
END:VEVENT
BEGIN:VEVENT
DTSTART;TZID=Europe/Berlin:20241018T180000
DTEND;TZID=Europe/Berlin:20241018T220000
DTSTAMP:20260421T175731
CREATED:20231222T134227Z
LAST-MODIFIED:20241016T092834Z
UID:10000063-1729274400-1729288800@www.munich-milan.de
SUMMARY:Unternehmertreffen bei HEINRICH\, WOLLERING & PARTNER in Hamburg
DESCRIPTION:Vernetzen Sie sich mit Fachleuten aus verschiedenen Sektoren\, bauen Sie wichtige Geschäftsbeziehungen auf und entdecken Sie neue Kooperationsmöglichkeiten\, Investitionsoptionen und Sponsoren\, die bereit sind\, Ihre Projekte und Ihr Geschäft zu unterstützen. \n\n\n\nDie Gestaltung des Abends liegt in Ihren Händen – Sie bestimmen den Verlauf und den Ausklang. Bringen Sie Ihre Geschäftskompetenz\, passende Kleidung und vor allem den festen Entschluss mit\, Großes zu erreichen. \n\n\n\nErgreifen Sie diese besondere Gelegenheit und registrieren Sie sich jetzt für die nächste Unternehmernetzwerkveranstaltung! Zögern Sie nicht – die Teilnehmerzahl ist limitiert! Beginnen Sie mit Munich Milan Ihren Weg in eine vielversprechende Zukunft. \n\n\n\nAusverkauft
URL:https://www.munich-milan.de/event/unternehmertreffen-bei-heinrich-wollering-partner-in-hamburg/
LOCATION:HEINRICH\, WOLLERING & PARTNER Steuer- und Anwaltskanzlei\, Gänsemarkt 44\, Hamburg\, 20354\, Germany
CATEGORIES:Deutschland,Hamburg
ATTACH;FMTTYPE=image/jpeg:https://www.munich-milan.de/wp-content/uploads/2023/11/mmunternehmertreffen.jpeg
END:VEVENT
BEGIN:VEVENT
DTSTART;TZID=Europe/Berlin:20240906T180000
DTEND;TZID=Europe/Berlin:20240906T220000
DTSTAMP:20260421T175731
CREATED:20240213T150948Z
LAST-MODIFIED:20240905T102831Z
UID:10000064-1725645600-1725660000@www.munich-milan.de
SUMMARY:Unternehmertreffen bei AHB Rechtsanwälte Steuerberater Arends Hofert Bergemann PartGmbB in Hamburg
DESCRIPTION:Tauschen Sie sich mit Fachleuten aus verschiedensten Sektoren aus\, bauen Sie bedeutsame Beziehungen auf und erschließen Sie neue Kooperationen\, Investitionsgelegenheiten und Sponsoren\, die dazu bereit sind\, Ihre Projekte und Ihr Geschäft zu fördern. \n\n\n\nDie Gestaltung Ihres Abends liegt in Ihren Händen – Sie bestimmen den Verlauf und das Ergebnis. Alles\, was Sie benötigen\, ist Ihre volle Geschäftskompetenz\, passende Kleidung und vor allem die feste Überzeugung\, etwas Einzigartiges zu leisten. \n\n\n\nErgreifen Sie diese besondere Gelegenheit und registrieren Sie sich jetzt für das nächste Unternehmertreffen! Doch zögern Sie nicht – die Teilnehmerzahl ist limitiert! Beginnen Sie mit Munich Milan Ihren Schritt in eine spannende Zukunft! \n\n\n\nAusverkauft \n\n\n\n\n\n\n\n\n\nVeranstaltungsort
URL:https://www.munich-milan.de/event/unternehmertreffen-bei-ahb-rechtsanwaelte-steuerberater-arends-hofert-bergemann-partgmbb-in-hamburg/
LOCATION:AHB Rechtsanwälte Steuerberater Arends Hofert Bergemann PartGmbB\, Neuer Wall 59\, Hamburg\, 20354\, Germany
CATEGORIES:Deutschland,Hamburg
ATTACH;FMTTYPE=image/jpeg:https://www.munich-milan.de/wp-content/uploads/2023/11/mmunternehmertreffen.jpeg
END:VEVENT
BEGIN:VEVENT
DTSTART;TZID=Europe/Berlin:20240524T180000
DTEND;TZID=Europe/Berlin:20240524T220000
DTSTAMP:20260421T175731
CREATED:20231128T154828Z
LAST-MODIFIED:20240527T183659Z
UID:10000062-1716573600-1716588000@www.munich-milan.de
SUMMARY:Unternehmertreffen bei ALSTERDORFER TREUHAND GmbH Wirtschaftsprüfer in Hamburg
DESCRIPTION:Vernetzen Sie sich mit Gleichgesinnten aus diversen Branchen\, bauen Sie bedeutende Geschäftsbeziehungen auf und entdecken Sie neue Kooperationen\, Investitionsoptionen und Förderer\, die darauf warten\, Ihre Projekte und Ihr Geschäft zu unterstützen. \n\n\n\nDie Gestaltung Ihres Abends liegt in Ihren Händen – Sie bestimmen den Verlauf und das Ende. Alles\, was Sie benötigen\, ist Ihre volle Geschäftskenntnis\, passende Kleidung und vor allem der feste Entschluss\, etwas Außergewöhnliches zu erreichen. \n\n\n\nErgreifen Sie diese besondere Gelegenheit und registrieren Sie sich jetzt für unser nächstes Unternehmertreffen! Zögern Sie nicht – die Teilnehmerzahl ist limitiert! Beginnen Sie mit Munich Milan Ihren Weg in eine spannende Zukunft! \n\n\n\nAusverkauft \n\n\n\n\n\n\n\n\n\n\n\n\n\nVeranstaltungsort
URL:https://www.munich-milan.de/event/unternehmertreffen-bei-alsterdorfer-treuhand-in-hamburg/
LOCATION:Alsterdorfer Treuhand GmbH Wirtschaftsprüfer\, Heegbarg 4\, Hamburg\, 22391\, Germany
CATEGORIES:Deutschland,Hamburg
ATTACH;FMTTYPE=image/jpeg:https://www.munich-milan.de/wp-content/uploads/2023/11/mmunternehmertreffen.jpeg
END:VEVENT
BEGIN:VEVENT
DTSTART;TZID=Europe/Berlin:20240223T180000
DTEND;TZID=Europe/Berlin:20240223T220000
DTSTAMP:20260421T175731
CREATED:20231122T100916Z
LAST-MODIFIED:20260217T101727Z
UID:10000061-1708711200-1708725600@www.munich-milan.de
SUMMARY:Unternehmertreffen bei CADMUS in Hamburg
DESCRIPTION:Tauschen Sie sich mit Gleichgesinnten aus den unterschiedlichsten Branchen aus\, knüpfen Sie wertvolle Kontakte und entdecken Sie neue Partnerschaften\, Investitionsmöglichkeiten und Sponsoren\, die bereit sind\, Ihre Ideen und Ihr Unternehmen voranzutreiben. \n\n\n\nSie haben die Kontrolle über Ihren Abend – entscheiden Sie\, wie er verläuft und wie er endet. Alles\, was Sie mitbringen müssen\, ist Ihre volle Geschäftsfähigkeit\, angemessene Kleidung und vor allem der unerschütterliche Wille\, etwas Besonderes zu schaffen. \n\n\n\nNutzen Sie diese einzigartige Chance und melden Sie sich jetzt für die nächste Unternehmerparty an! Aber beeilen Sie sich – die Plätze sind begrenzt! Machen Sie den ersten Schritt in eine aufregende Zukunft mit Munich Milan! \n\n\n\nAusverkauft \n\n\n\n\n\n\n\n\n\n\n\n\n\nVeranstaltungsort\n\n\n\n\n\n\n\n\n\nAnfahrt:\n\n\n\nAnreise mit öffentlichen Verkehrsmitteln\n\n\n\nVom Hamburger Hauptbahnhof:Nehmen Sie die S-Bahn S3 in Richtung Harburg / Neugraben und steigen Sie an der Station Hammerbrook aus (Fahrzeit ca. 5–7 Minuten). Von dort erreichen Sie den Heidenkampsweg 74–76 in etwa 5 Gehminuten. Folgen Sie dem Heidenkampsweg stadtauswärts. Das Gebäude befindet sich auf derselben Straßenseite. \n\n\n\nAlternative Verbindung:Mit der U2 oder U4 bis Berliner Tor\, anschließend weiter mit der S-Bahn bis Hammerbrook oder zu Fuß (ca. 15 Minuten). Von der S-Bahn-Station Hammerbrook aus gehen Sie den Heidenkampsweg entlang bis zur Hausnummer 74–76. Das Bürogebäude befindet sich im modernen Geschäftsviertel und ist gut ausgeschildert. \n\n\n\nVom Flughafen Hamburg:Fahren Sie mit der S1 bis zum Hauptbahnhof. Steigen Sie dort in die S3 Richtung Harburg / Neugraben um und fahren Sie bis Hammerbrook. Die gesamte Fahrzeit beträgt etwa 35–40 Minuten. \n\n\n\nAnreise mit dem Auto\n\n\n\nFolgen Sie der Beschilderung Richtung Hamburg Zentrum / Hammerbrook. Der Heidenkampsweg liegt im östlichen Innenstadtbereich nahe Berliner Tor. \n\n\n\nParkmöglichkeiten:Im Bereich Heidenkampsweg sowie in den umliegenden Straßen stehen öffentliche Parkplätze zur Verfügung. Bitte beachten Sie\, dass diese insbesondere zu Stoßzeiten begrenzt sein können.
URL:https://www.munich-milan.de/event/unternehmertreffen-hamburg-5/
LOCATION:CADMUS Rechtsanwalt – Steuerberater Partnerschaftsgesellschaft mbB\, Heidenkampsweg 74-76\, Hamburg\, 20097\, Deutschland
CATEGORIES:Deutschland,Hamburg
ATTACH;FMTTYPE=image/jpeg:https://www.munich-milan.de/wp-content/uploads/2023/11/mmunternehmertreffen.jpeg
END:VEVENT
BEGIN:VEVENT
DTSTART;TZID=Europe/Berlin:20221014T180000
DTEND;TZID=Europe/Berlin:20221014T235900
DTSTAMP:20260421T175731
CREATED:20230922T091710Z
LAST-MODIFIED:20230922T091711Z
UID:10000043-1665770400-1665791940@www.munich-milan.de
SUMMARY:Unternehmertreffen Hamburg
DESCRIPTION:
URL:https://www.munich-milan.de/event/unternehmertreffen-hamburg/
LOCATION:TOG The Office Group (Germany) GmbH\, Curienstraße 1\, Hamburg\, 20095\, Deutschland
CATEGORIES:Deutschland,Hamburg
ORGANIZER;CN="Munich Milan Unternehmerk%C3%B6pfe GmbH":MAILTO:info@munich-milan.de
END:VEVENT
BEGIN:VEVENT
DTSTART;TZID=Europe/Berlin:20221009T180000
DTEND;TZID=Europe/Berlin:20221009T235900
DTSTAMP:20260421T175731
CREATED:20230922T082204Z
LAST-MODIFIED:20230922T082606Z
UID:10000028-1665338400-1665359940@www.munich-milan.de
SUMMARY:Unternehmertreffen München
DESCRIPTION:
URL:https://www.munich-milan.de/event/unternehmertreffen-muenchen/
LOCATION:MOTORWORLD INN Restaurant\, Am Ausbesserungswerk 8\, München\, 80939\, Deutschland
CATEGORIES:Deutschland,München
ORGANIZER;CN="Munich Milan Unternehmerk%C3%B6pfe GmbH":MAILTO:info@munich-milan.de
END:VEVENT
BEGIN:VEVENT
DTSTART;TZID=Europe/Berlin:20220904T170000
DTEND;TZID=Europe/Berlin:20220904T235900
DTSTAMP:20260421T175731
CREATED:20230922T092420Z
LAST-MODIFIED:20230922T092421Z
UID:10000047-1662310800-1662335940@www.munich-milan.de
SUMMARY:Unternehmertreffen Frankfurt
DESCRIPTION:
URL:https://www.munich-milan.de/event/unternehmertreffen-frankfurt/
LOCATION:Restaurant “Herr Franz” im Palais Livingston\, Ulmenstr. 20\, Frankfurt\, 60325\, Deutschland
CATEGORIES:Deutschland,Frankfurt
ORGANIZER;CN="Munich Milan Unternehmerk%C3%B6pfe GmbH":MAILTO:info@munich-milan.de
END:VEVENT
BEGIN:VEVENT
DTSTART;TZID=Europe/Berlin:20220602T180000
DTEND;TZID=Europe/Berlin:20220602T235900
DTSTAMP:20260421T175731
CREATED:20230922T091908Z
LAST-MODIFIED:20230922T091910Z
UID:10000044-1654192800-1654214340@www.munich-milan.de
SUMMARY:Unternehmertreffen Hamburg
DESCRIPTION:
URL:https://www.munich-milan.de/event/unternehmertreffen-hamburg-2/
LOCATION:Hamburg Messe und Congress GmbH\, Messeplatz 1\, Hamburg\, 20357\, Deutschland
CATEGORIES:Deutschland,Hamburg
ORGANIZER;CN="Munich Milan Unternehmerk%C3%B6pfe GmbH":MAILTO:info@munich-milan.de
END:VEVENT
BEGIN:VEVENT
DTSTART;TZID=Europe/Berlin:20220515T180000
DTEND;TZID=Europe/Berlin:20220515T235900
DTSTAMP:20260421T175731
CREATED:20230922T092646Z
LAST-MODIFIED:20230922T092647Z
UID:10000048-1652637600-1652659140@www.munich-milan.de
SUMMARY:Unternehmertreffen Frankfurt
DESCRIPTION:
URL:https://www.munich-milan.de/event/unternehmertreffen-frankfurt-2/
LOCATION:Main Nizza\, Untermainkai 17\, Frankfurt am Main\, 60329\, Deutschland
CATEGORIES:Deutschland,Frankfurt
ORGANIZER;CN="Munich Milan Unternehmerk%C3%B6pfe GmbH":MAILTO:info@munich-milan.de
END:VEVENT
BEGIN:VEVENT
DTSTART;TZID=Europe/Berlin:20220515T180000
DTEND;TZID=Europe/Berlin:20220515T235900
DTSTAMP:20260421T175731
CREATED:20230922T082339Z
LAST-MODIFIED:20230922T082555Z
UID:10000029-1652637600-1652659140@www.munich-milan.de
SUMMARY:Unternehmertreffen München
DESCRIPTION:
URL:https://www.munich-milan.de/event/unternehmertreffen-muenchen-2/
LOCATION:MOTORWORLD INN Restaurant\, Am Ausbesserungswerk 8\, München\, 80939\, Deutschland
CATEGORIES:Deutschland,München
ORGANIZER;CN="Munich Milan Unternehmerk%C3%B6pfe GmbH":MAILTO:info@munich-milan.de
END:VEVENT
BEGIN:VEVENT
DTSTART;TZID=Europe/Berlin:20220306T180000
DTEND;TZID=Europe/Berlin:20220306T235900
DTSTAMP:20260421T175731
CREATED:20230922T082511Z
LAST-MODIFIED:20230922T082513Z
UID:10000030-1646589600-1646611140@www.munich-milan.de
SUMMARY:Unternehmertreffen München
DESCRIPTION:
URL:https://www.munich-milan.de/event/unternehmertreffen-muenchen-3/
LOCATION:MOTORWORLD INN Restaurant\, Am Ausbesserungswerk 8\, München\, 80939\, Deutschland
CATEGORIES:Deutschland,München
ORGANIZER;CN="Munich Milan Unternehmerk%C3%B6pfe GmbH":MAILTO:info@munich-milan.de
END:VEVENT
BEGIN:VEVENT
DTSTART;TZID=Europe/Berlin:20220202T180000
DTEND;TZID=Europe/Berlin:20220202T235900
DTSTAMP:20260421T175731
CREATED:20230922T092041Z
LAST-MODIFIED:20230922T092042Z
UID:10000045-1643824800-1643846340@www.munich-milan.de
SUMMARY:Unternehmertreffen Hamburg
DESCRIPTION:
URL:https://www.munich-milan.de/event/unternehmertreffen-hamburg-3/
LOCATION:Restaurant im Hotel Hafen\, Seewartenstraße 9\, Hamburg\, 20459\, Deutschland
CATEGORIES:Deutschland,Hamburg
ORGANIZER;CN="Munich Milan Unternehmerk%C3%B6pfe GmbH":MAILTO:info@munich-milan.de
END:VEVENT
BEGIN:VEVENT
DTSTART;TZID=Europe/Berlin:20220130T180000
DTEND;TZID=Europe/Berlin:20220130T235900
DTSTAMP:20260421T175731
CREATED:20230922T070703Z
LAST-MODIFIED:20230922T071912Z
UID:10000002-1643565600-1643587140@www.munich-milan.de
SUMMARY:Unternehmertreffen Milan
DESCRIPTION:
URL:https://www.munich-milan.de/event/1546/
CATEGORIES:Italien,Milan
ORGANIZER;CN="Munich Milan Unternehmerk%C3%B6pfe GmbH":MAILTO:info@munich-milan.de
END:VEVENT
BEGIN:VEVENT
DTSTART;TZID=Europe/Berlin:20211107T180000
DTEND;TZID=Europe/Berlin:20211107T235900
DTSTAMP:20260421T175731
CREATED:20230922T093237Z
LAST-MODIFIED:20230922T093238Z
UID:10000050-1636308000-1636329540@www.munich-milan.de
SUMMARY:Unternehmertreffen Frankfurt
DESCRIPTION:
URL:https://www.munich-milan.de/event/unternehmertreffen-frankfurt-4/
LOCATION:Händlerlogo LugInsLand – Main Skyline Restaurant & Bar\, Eschenheimer Tor 2\, Frankfurt am Main\, 60313\, Deutschland
CATEGORIES:Deutschland,Frankfurt
ORGANIZER;CN="Munich Milan Unternehmerk%C3%B6pfe GmbH":MAILTO:info@munich-milan.de
END:VEVENT
BEGIN:VEVENT
DTSTART;TZID=Europe/Berlin:20211107T180000
DTEND;TZID=Europe/Berlin:20211107T235900
DTSTAMP:20260421T175731
CREATED:20230922T092215Z
LAST-MODIFIED:20230922T092217Z
UID:10000046-1636308000-1636329540@www.munich-milan.de
SUMMARY:Unternehmertreffen Hamburg
DESCRIPTION:
URL:https://www.munich-milan.de/event/unternehmertreffen-hamburg-4/
LOCATION:Restaurant im Hotel Hafen\, Seewartenstraße 9\, Hamburg\, 20459\, Deutschland
CATEGORIES:Deutschland,Hamburg
ORGANIZER;CN="Munich Milan Unternehmerk%C3%B6pfe GmbH":MAILTO:info@munich-milan.de
END:VEVENT
BEGIN:VEVENT
DTSTART;TZID=Europe/Berlin:20211106T180000
DTEND;TZID=Europe/Berlin:20211106T235900
DTSTAMP:20260421T175731
CREATED:20230922T094031Z
LAST-MODIFIED:20230922T094032Z
UID:10000054-1636221600-1636243140@www.munich-milan.de
SUMMARY:Unternehmertreffen Berlin
DESCRIPTION:
URL:https://www.munich-milan.de/event/unternehmertreffen-berlin/
LOCATION:Vienna House Andel’s Berlin Loft14\, ( Bar in 65 Meter Höhe )\, Landsberger Allee 106\, Berlin\, 10369\, Deutschland
CATEGORIES:Berlin,Deutschland
ORGANIZER;CN="Munich Milan Unternehmerk%C3%B6pfe GmbH":MAILTO:info@munich-milan.de
END:VEVENT
BEGIN:VEVENT
DTSTART;TZID=Europe/Berlin:20211106T180000
DTEND;TZID=Europe/Berlin:20211106T235900
DTSTAMP:20260421T175731
CREATED:20230922T071246Z
LAST-MODIFIED:20230922T071904Z
UID:10000003-1636221600-1636243140@www.munich-milan.de
SUMMARY:Unternehmertreffen Milan
DESCRIPTION:
URL:https://www.munich-milan.de/event/unternehmertreffen-milan/
CATEGORIES:Italien,Milan
END:VEVENT
BEGIN:VEVENT
DTSTART;TZID=Europe/Berlin:20210904T180000
DTEND;TZID=Europe/Berlin:20210904T235900
DTSTAMP:20260421T175731
CREATED:20230922T094132Z
LAST-MODIFIED:20230922T094133Z
UID:10000055-1630778400-1630799940@www.munich-milan.de
SUMMARY:Unternehmertreffen Berlin
DESCRIPTION:
URL:https://www.munich-milan.de/event/unternehmertreffen-berlin-2/
LOCATION:Vienna House Andel’s Berlin Loft14\, ( Bar in 65 Meter Höhe )\, Landsberger Allee 106\, Berlin\, 10369\, Deutschland
CATEGORIES:Berlin,Deutschland
ORGANIZER;CN="Munich Milan Unternehmerk%C3%B6pfe GmbH":MAILTO:info@munich-milan.de
END:VEVENT
BEGIN:VEVENT
DTSTART;TZID=Europe/Berlin:20210904T180000
DTEND;TZID=Europe/Berlin:20210904T235900
DTSTAMP:20260421T175731
CREATED:20230922T071633Z
LAST-MODIFIED:20230922T071856Z
UID:10000004-1630778400-1630799940@www.munich-milan.de
SUMMARY:Unternehmertreffen Milan
DESCRIPTION:
URL:https://www.munich-milan.de/event/unternehmertreffen-milan-2/
CATEGORIES:Italien,Milan
END:VEVENT
BEGIN:VEVENT
DTSTART;TZID=Europe/Berlin:20210731T180000
DTEND;TZID=Europe/Berlin:20210731T235900
DTSTAMP:20260421T175731
CREATED:20230922T094238Z
LAST-MODIFIED:20230922T094239Z
UID:10000056-1627754400-1627775940@www.munich-milan.de
SUMMARY:Unternehmertreffen Berlin
DESCRIPTION:
URL:https://www.munich-milan.de/event/unternehmertreffen-berlin-3/
LOCATION:Vienna House Andel’s Berlin Loft14\, ( Bar in 65 Meter Höhe )\, Landsberger Allee 106\, Berlin\, 10369\, Deutschland
CATEGORIES:Berlin,Deutschland
ORGANIZER;CN="Munich Milan Unternehmerk%C3%B6pfe GmbH":MAILTO:info@munich-milan.de
END:VEVENT
BEGIN:VEVENT
DTSTART;TZID=Europe/Berlin:20210606T180000
DTEND;TZID=Europe/Berlin:20210606T235900
DTSTAMP:20260421T175731
CREATED:20230922T093546Z
LAST-MODIFIED:20230922T093548Z
UID:10000051-1623002400-1623023940@www.munich-milan.de
SUMMARY:Unternehmertreffen Düsseldorf
DESCRIPTION:
URL:https://www.munich-milan.de/event/unternehmertreffen-duesseldorf/
LOCATION:Stammhaus der Düsseldorfer Privatbrauerei\, Wielandstrasse 12\, Düsseldorf\, 40221\, Deutschland
CATEGORIES:Deutschland,Düsseldorf
ORGANIZER;CN="Munich Milan Unternehmerk%C3%B6pfe GmbH":MAILTO:info@munich-milan.de
END:VEVENT
BEGIN:VEVENT
DTSTART;TZID=Europe/Berlin:20210606T180000
DTEND;TZID=Europe/Berlin:20210606T235900
DTSTAMP:20260421T175731
CREATED:20230922T092800Z
LAST-MODIFIED:20230922T092801Z
UID:10000049-1623002400-1623023940@www.munich-milan.de
SUMMARY:Unternehmertreffen Frankfurt
DESCRIPTION:
URL:https://www.munich-milan.de/event/unternehmertreffen-frankfurt-3/
LOCATION:Main Nizza\, Untermainkai 17\, Frankfurt am Main\, 60329\, Deutschland
CATEGORIES:Deutschland,Frankfurt
ORGANIZER;CN="Munich Milan Unternehmerk%C3%B6pfe GmbH":MAILTO:info@munich-milan.de
END:VEVENT
BEGIN:VEVENT
DTSTART;TZID=Europe/Berlin:20210606T180000
DTEND;TZID=Europe/Berlin:20210606T235900
DTSTAMP:20260421T175731
CREATED:20230922T091254Z
LAST-MODIFIED:20230922T091255Z
UID:10000040-1623002400-1623023940@www.munich-milan.de
SUMMARY:Unternehmertreffen Hannover
DESCRIPTION:
URL:https://www.munich-milan.de/event/unternehmertreffen-hannover/
LOCATION:Restaurant Al Dar\, Königstraße 3\, Hannover\, 30175\, Deutschland
CATEGORIES:Deutschland,Hannover
ORGANIZER;CN="Munich Milan Unternehmerk%C3%B6pfe GmbH":MAILTO:info@munich-milan.de
END:VEVENT
BEGIN:VEVENT
DTSTART;TZID=Europe/Berlin:20210606T180000
DTEND;TZID=Europe/Berlin:20210606T235900
DTSTAMP:20260421T175731
CREATED:20230922T090852Z
LAST-MODIFIED:20230922T090853Z
UID:10000037-1623002400-1623023940@www.munich-milan.de
SUMMARY:Unternehmertreffen Kaiserslautern
DESCRIPTION:
URL:https://www.munich-milan.de/event/unternehmertreffen-kaiserslautern/
LOCATION:Raststätte Ramstein\, In dem Wat L363\, Ramstein-Miesenbach\, 66877\, Deutschland
CATEGORIES:Deutschland,Kaiserslautern
ORGANIZER;CN="Munich Milan Unternehmerk%C3%B6pfe GmbH":MAILTO:info@munich-milan.de
END:VEVENT
BEGIN:VEVENT
DTSTART;TZID=Europe/Berlin:20210606T180000
DTEND;TZID=Europe/Berlin:20210606T235900
DTSTAMP:20260421T175731
CREATED:20230922T085055Z
LAST-MODIFIED:20230922T085056Z
UID:10000034-1623002400-1623023940@www.munich-milan.de
SUMMARY:Unternehmertreffen Karlsruhe
DESCRIPTION:
URL:https://www.munich-milan.de/event/unternehmertreffen-karlsruhe/
LOCATION:Barco im K.\, Ettlinger Tor Platz 1a\, Karlsruhe\, 76137\, Deutschland
CATEGORIES:Deutschland,Karlsruhe
ORGANIZER;CN="Munich Milan Unternehmerk%C3%B6pfe GmbH":MAILTO:info@munich-milan.de
END:VEVENT
BEGIN:VEVENT
DTSTART;TZID=Europe/Berlin:20210606T180000
DTEND;TZID=Europe/Berlin:20210606T235900
DTSTAMP:20260421T175731
CREATED:20230922T082851Z
LAST-MODIFIED:20230922T082852Z
UID:10000031-1623002400-1623023940@www.munich-milan.de
SUMMARY:Unternehmertreffen Kassel
DESCRIPTION:
URL:https://www.munich-milan.de/event/unternehmertreffen-kassel/
LOCATION:Hessischer Hof\, Kasseler Straße 4\, Kassel\, 34123\, Deutschland
CATEGORIES:Deutschland,Kassel
ORGANIZER;CN="Munich Milan Unternehmerk%C3%B6pfe GmbH":MAILTO:info@munich-milan.de
END:VEVENT
BEGIN:VEVENT
DTSTART;TZID=Europe/Berlin:20210606T180000
DTEND;TZID=Europe/Berlin:20210606T235900
DTSTAMP:20260421T175732
CREATED:20230922T080547Z
LAST-MODIFIED:20230922T080548Z
UID:10000025-1623002400-1623023940@www.munich-milan.de
SUMMARY:Unternehmertreffen Pforzheim
DESCRIPTION:
URL:https://www.munich-milan.de/event/unternehmertreffen-pforzheim/
LOCATION:Hotel Royal\, Wilhelm Becker Strasse 3a\, Pforzheim\, 75179\, Deutschland
CATEGORIES:Deutschland,Pforzheim
ORGANIZER;CN="Munich Milan Unternehmerk%C3%B6pfe GmbH":MAILTO:info@munich-milan.de
END:VEVENT
END:VCALENDAR